BEGIN:VCALENDAR
VERSION:2.0
PRODID:-//Blind Test by Pascal Michel - ECPv4.6.23//NONSGML v1.0//EN
CALSCALE:GREGORIAN
METHOD:PUBLISH
X-WR-CALNAME:Blind Test by Pascal Michel
X-ORIGINAL-URL:https://blindtestbypascalmichel.be
X-WR-CALDESC:Évènements pour Blind Test by Pascal Michel
BEGIN:VEVENT
DTSTART;TZID=UTC+0:20181006T200000
DTEND;TZID=UTC+0:20181007T000000
DTSTAMP:20260419T133536
CREATED:20170330T113934Z
LAST-MODIFIED:20180914T181352Z
UID:249-1538856000-1538870400@blindtestbypascalmichel.be
SUMMARY:Blind Test à Musson
DESCRIPTION:Infos à venir \n
URL:https://blindtestbypascalmichel.be/event/the-london-taphouse/
LOCATION:Ecole St Julie\, Rue Nérette 2\, Marche-en-Famenne\, Luxembourg\, 6900\, Belgique
END:VEVENT
END:VCALENDAR