BEGIN:VCALENDAR
VERSION:2.0
PRODID:-//Blind Test by Pascal Michel - ECPv4.6.23//NONSGML v1.0//EN
CALSCALE:GREGORIAN
METHOD:PUBLISH
X-WR-CALNAME:Blind Test by Pascal Michel
X-ORIGINAL-URL:https://blindtestbypascalmichel.be
X-WR-CALDESC:Évènements pour Blind Test by Pascal Michel
BEGIN:VEVENT
DTSTART;TZID=UTC+0:20180922T200000
DTEND;TZID=UTC+0:20180923T000000
DTSTAMP:20260421T100838
CREATED:20170330T114113Z
LAST-MODIFIED:20180914T180658Z
UID:251-1537646400-1537660800@blindtestbypascalmichel.be
SUMMARY:Blind Test à Melen
DESCRIPTION:Infos à venir \n
URL:https://blindtestbypascalmichel.be/event/tba/
LOCATION:Soumagne (Liège)
END:VEVENT
END:VCALENDAR