BEGIN:VCALENDAR
VERSION:2.0
PRODID:-//Blind Test by Pascal Michel - ECPv4.6.23//NONSGML v1.0//EN
CALSCALE:GREGORIAN
METHOD:PUBLISH
X-WR-CALNAME:Blind Test by Pascal Michel
X-ORIGINAL-URL:https://blindtestbypascalmichel.be
X-WR-CALDESC:Évènements pour Blind Test by Pascal Michel
BEGIN:VEVENT
DTSTART;TZID=Europe/Paris:20260528T200000
DTEND;TZID=Europe/Paris:20260528T200000
DTSTAMP:20260422T191511
CREATED:20260415T105538Z
LAST-MODIFIED:20260415T105538Z
UID:2726-1779998400-1779998400@blindtestbypascalmichel.be
SUMMARY:Blind Test D-Fool
DESCRIPTION:Blind Test chez d-fool® !\nLe célèbre Pascal Michel reprend son micro pour animer un nouveau Blind Test chez d-fool® !\n15 équipes vont s’affronter dans une ambiance survoltée.\nFormez votre team de 2 à 8 joueurs et venez tester votre culture musicale !\n\nRéservation obligatoire via la billetterie: https://www.billetweb.fr/blind-test-by-pascal-michel-chez-d-fool\n16 ans minimum\nPréparez vos oreilles\, chauffez vos stylos… que la meilleure équipe gagne ! \nAccueil à 19h00\nDébut du jeu à 20h00\nCornets de pâtes disponibles\n
URL:https://blindtestbypascalmichel.be/event/blind-test-d-fool/
END:VEVENT
END:VCALENDAR