BEGIN:VCALENDAR
VERSION:2.0
PRODID:-//Blind Test by Pascal Michel - ECPv4.6.23//NONSGML v1.0//EN
CALSCALE:GREGORIAN
METHOD:PUBLISH
X-WR-CALNAME:Blind Test by Pascal Michel
X-ORIGINAL-URL:https://blindtestbypascalmichel.be
X-WR-CALDESC:Évènements pour Blind Test by Pascal Michel
BEGIN:VEVENT
DTSTART;TZID=Europe/Paris:20181117T190000
DTEND;TZID=Europe/Paris:20181117T235900
DTSTAMP:20260421T083457
CREATED:20181008T091527Z
LAST-MODIFIED:20181008T093345Z
UID:875-1542481200-1542499140@blindtestbypascalmichel.be
SUMMARY:Blind Test à Arlon - Altéo
DESCRIPTION:Blind Test organisé par Altéo Arlon \nEquipe de 6 joueurs maximum – PAF: 6€/personne \nInscription obligatoire au 063 211 848 ou par email à alteo.luxembourg@mc.be (avant le 9 novembre) \nLe thème de cette année: « A poils ou à plumes » (à vos déguisement !) \n
URL:https://blindtestbypascalmichel.be/event/blind-test-a-arlon/
LOCATION:INDA Arlon\, Rue Netzer 21\, Arlon\, Luxembourg\, 6700\, Belgique
END:VEVENT
END:VCALENDAR